BEGIN:VCALENDAR
VERSION:2.0
PRODID:-//Rockcastle Regional Hospital - ECPv6.15.20//NONSGML v1.0//EN
CALSCALE:GREGORIAN
METHOD:PUBLISH
X-WR-CALNAME:Rockcastle Regional Hospital
X-ORIGINAL-URL:https://www.rockcastleregional.org
X-WR-CALDESC:Events for Rockcastle Regional Hospital
REFRESH-INTERVAL;VALUE=DURATION:PT1H
X-Robots-Tag:noindex
X-PUBLISHED-TTL:PT1H
BEGIN:VTIMEZONE
TZID:America/Kentucky/Louisville
BEGIN:DAYLIGHT
TZOFFSETFROM:-0500
TZOFFSETTO:-0400
TZNAME:EDT
DTSTART:20240310T070000
END:DAYLIGHT
BEGIN:STANDARD
TZOFFSETFROM:-0400
TZOFFSETTO:-0500
TZNAME:EST
DTSTART:20241103T060000
END:STANDARD
BEGIN:DAYLIGHT
TZOFFSETFROM:-0500
TZOFFSETTO:-0400
TZNAME:EDT
DTSTART:20250309T070000
END:DAYLIGHT
BEGIN:STANDARD
TZOFFSETFROM:-0400
TZOFFSETTO:-0500
TZNAME:EST
DTSTART:20251102T060000
END:STANDARD
BEGIN:DAYLIGHT
TZOFFSETFROM:-0500
TZOFFSETTO:-0400
TZNAME:EDT
DTSTART:20260308T070000
END:DAYLIGHT
BEGIN:STANDARD
TZOFFSETFROM:-0400
TZOFFSETTO:-0500
TZNAME:EST
DTSTART:20261101T060000
END:STANDARD
END:VTIMEZONE
BEGIN:VEVENT
DTSTART;TZID=America/Kentucky/Louisville:20251025T080000
DTEND;TZID=America/Kentucky/Louisville:20251025T120000
DTSTAMP:20260421T111052
CREATED:20250130T191611Z
LAST-MODIFIED:20250820T134522Z
UID:2038-1761379200-1761393600@www.rockcastleregional.org
SUMMARY:Renfro Rock 'N Run Half Marathon/5K
DESCRIPTION:The Renfro Rock N Run Half Marathon has a tradition of being one of Kentucky’s most unique and fun races\, and we can’t wait to have you back on site to enjoy the atmosphere. \nRenfro Valley\, Kentucky\, home of the world-famous entertainment center and the Kentucky Music Hall of Fame\, is known for its music\, from Bluegrass to classic country to rock. Rockcastle County is home to a rock-solid\, enthusiastic bunch who has taken to running and dare you to keep up. At the Rock N Run\, they share the road\, and their countryside\, with you. \nYou’ll dash past rustic cabins\, trot alongside a beautiful lake\, and pass through some of Kentucky’s prettiest farmscapes. \nPart of the Rockcastle Regional Countywide Stride run/walk series\, and winner of the Jackson Healthcare Hospital Charitable Services Program of Excellence Award. \nClick here for more information.
URL:https://www.rockcastleregional.org/event/renfro-rock-n-run-half-marathon-5k/
LOCATION:Renfro Valley\, 2380 Richmond St.\, Mt. Vernon\, KY\, 40456
ATTACH;FMTTYPE=image/png:https://www.rockcastleregional.org/wp-content/uploads/2025/01/race31074-logo-0.bAyKrR.png
ORGANIZER;CN="Chelsea Dillingham":MAILTO:c.dillingham@rhrcc.org
END:VEVENT
END:VCALENDAR