BEGIN:VCALENDAR
VERSION:2.0
PRODID:-//Rockcastle Regional Hospital - ECPv6.15.20//NONSGML v1.0//EN
CALSCALE:GREGORIAN
METHOD:PUBLISH
X-ORIGINAL-URL:https://www.rockcastleregional.org
X-WR-CALDESC:Events for Rockcastle Regional Hospital
REFRESH-INTERVAL;VALUE=DURATION:PT1H
X-Robots-Tag:noindex
X-PUBLISHED-TTL:PT1H
BEGIN:VTIMEZONE
TZID:America/Kentucky/Louisville
BEGIN:DAYLIGHT
TZOFFSETFROM:-0500
TZOFFSETTO:-0400
TZNAME:EDT
DTSTART:20240310T070000
END:DAYLIGHT
BEGIN:STANDARD
TZOFFSETFROM:-0400
TZOFFSETTO:-0500
TZNAME:EST
DTSTART:20241103T060000
END:STANDARD
BEGIN:DAYLIGHT
TZOFFSETFROM:-0500
TZOFFSETTO:-0400
TZNAME:EDT
DTSTART:20250309T070000
END:DAYLIGHT
BEGIN:STANDARD
TZOFFSETFROM:-0400
TZOFFSETTO:-0500
TZNAME:EST
DTSTART:20251102T060000
END:STANDARD
BEGIN:DAYLIGHT
TZOFFSETFROM:-0500
TZOFFSETTO:-0400
TZNAME:EDT
DTSTART:20260308T070000
END:DAYLIGHT
BEGIN:STANDARD
TZOFFSETFROM:-0400
TZOFFSETTO:-0500
TZNAME:EST
DTSTART:20261101T060000
END:STANDARD
END:VTIMEZONE
BEGIN:VEVENT
DTSTART;TZID=America/Kentucky/Louisville:20251206T083000
DTEND;TZID=America/Kentucky/Louisville:20251206T103000
DTSTAMP:20260421T083332
CREATED:20250130T191755Z
LAST-MODIFIED:20250820T133946Z
UID:2040-1765009800-1765017000@www.rockcastleregional.org
SUMMARY:Jingle Bell 6K Run/2M Walk
DESCRIPTION:This Christmas-themed race celebrates its 22nd year. End the race year on a high note with your running buddies\, while picking up your own gift on the course.
URL:https://www.rockcastleregional.org/event/jingle-bell-6k-run-2m-walk/
LOCATION:Renfro Valley\, 2380 Richmond St.\, Mt. Vernon\, KY\, 40456
ATTACH;FMTTYPE=image/png:https://www.rockcastleregional.org/wp-content/uploads/2025/03/jingle-bell-logo-2025-1.png
ORGANIZER;CN="Chelsea Dillingham":MAILTO:c.dillingham@rhrcc.org
END:VEVENT
END:VCALENDAR