BEGIN:VCALENDAR
VERSION:2.0
PRODID:-//Rockcastle Regional Hospital - ECPv6.15.20//NONSGML v1.0//EN
CALSCALE:GREGORIAN
METHOD:PUBLISH
X-WR-CALNAME:Rockcastle Regional Hospital
X-ORIGINAL-URL:https://www.rockcastleregional.org
X-WR-CALDESC:Events for Rockcastle Regional Hospital
REFRESH-INTERVAL;VALUE=DURATION:PT1H
X-Robots-Tag:noindex
X-PUBLISHED-TTL:PT1H
BEGIN:VTIMEZONE
TZID:America/Kentucky/Louisville
BEGIN:DAYLIGHT
TZOFFSETFROM:-0500
TZOFFSETTO:-0400
TZNAME:EDT
DTSTART:20250309T070000
END:DAYLIGHT
BEGIN:STANDARD
TZOFFSETFROM:-0400
TZOFFSETTO:-0500
TZNAME:EST
DTSTART:20251102T060000
END:STANDARD
BEGIN:DAYLIGHT
TZOFFSETFROM:-0500
TZOFFSETTO:-0400
TZNAME:EDT
DTSTART:20260308T070000
END:DAYLIGHT
BEGIN:STANDARD
TZOFFSETFROM:-0400
TZOFFSETTO:-0500
TZNAME:EST
DTSTART:20261101T060000
END:STANDARD
BEGIN:DAYLIGHT
TZOFFSETFROM:-0500
TZOFFSETTO:-0400
TZNAME:EDT
DTSTART:20270314T070000
END:DAYLIGHT
BEGIN:STANDARD
TZOFFSETFROM:-0400
TZOFFSETTO:-0500
TZNAME:EST
DTSTART:20271107T060000
END:STANDARD
END:VTIMEZONE
BEGIN:VEVENT
DTSTART;TZID=America/Kentucky/Louisville:20260314T083000
DTEND;TZID=America/Kentucky/Louisville:20260314T103000
DTSTAMP:20260421T095031
CREATED:20250130T185658Z
LAST-MODIFIED:20260310T200457Z
UID:2024-1773477000-1773484200@www.rockcastleregional.org
SUMMARY:St. Patrick's Day 5K run/2M walk
DESCRIPTION:Don’t miss this 15th annual event in Livingston on one of the community’s most beautiful country roads. Proceeds go to the Miracle Fund for residents at Rockcastle Regional Hospital and Respiratory Care Center.
URL:https://www.rockcastleregional.org/event/st-patricks-day-5k-run-2m-walk/
LOCATION:Main Street Livingston\, Main Street\, Livingston\, KY\, 40445
ATTACH;FMTTYPE=image/png:https://www.rockcastleregional.org/wp-content/uploads/2025/01/Marchstpats-web.png
ORGANIZER;CN="Chelsea Dillingham":MAILTO:c.dillingham@rhrcc.org
END:VEVENT
END:VCALENDAR