BEGIN:VCALENDAR
VERSION:2.0
PRODID:-//Rockcastle Regional Hospital - ECPv6.15.20//NONSGML v1.0//EN
CALSCALE:GREGORIAN
METHOD:PUBLISH
X-WR-CALNAME:Rockcastle Regional Hospital
X-ORIGINAL-URL:https://www.rockcastleregional.org
X-WR-CALDESC:Events for Rockcastle Regional Hospital
REFRESH-INTERVAL;VALUE=DURATION:PT1H
X-Robots-Tag:noindex
X-PUBLISHED-TTL:PT1H
BEGIN:VTIMEZONE
TZID:America/Kentucky/Louisville
BEGIN:DAYLIGHT
TZOFFSETFROM:-0500
TZOFFSETTO:-0400
TZNAME:EDT
DTSTART:20240310T070000
END:DAYLIGHT
BEGIN:STANDARD
TZOFFSETFROM:-0400
TZOFFSETTO:-0500
TZNAME:EST
DTSTART:20241103T060000
END:STANDARD
BEGIN:DAYLIGHT
TZOFFSETFROM:-0500
TZOFFSETTO:-0400
TZNAME:EDT
DTSTART:20250309T070000
END:DAYLIGHT
BEGIN:STANDARD
TZOFFSETFROM:-0400
TZOFFSETTO:-0500
TZNAME:EST
DTSTART:20251102T060000
END:STANDARD
BEGIN:DAYLIGHT
TZOFFSETFROM:-0500
TZOFFSETTO:-0400
TZNAME:EDT
DTSTART:20260308T070000
END:DAYLIGHT
BEGIN:STANDARD
TZOFFSETFROM:-0400
TZOFFSETTO:-0500
TZNAME:EST
DTSTART:20261101T060000
END:STANDARD
END:VTIMEZONE
BEGIN:VEVENT
DTSTART;TZID=America/Kentucky/Louisville:20250712T080000
DTEND;TZID=America/Kentucky/Louisville:20250712T090000
DTSTAMP:20260421T141941
CREATED:20250130T190103Z
LAST-MODIFIED:20250130T192424Z
UID:2030-1752307200-1752310800@www.rockcastleregional.org
SUMMARY:Firecracker 4K Walk/5K Run
DESCRIPTION:Celebrate summer with a patriotic bang! This new 2025 race is sure to be a fast one on the flat Renfro Valley course. Proceeds benefit Mount Vernon Lions Club.
URL:https://www.rockcastleregional.org/event/firecracker-4k-walk-5k-run/
LOCATION:Renfro Valley\, 2380 Richmond St.\, Mt. Vernon\, KY\, 40456
ATTACH;FMTTYPE=image/png:https://www.rockcastleregional.org/wp-content/uploads/2025/01/CWS-logo300.png
ORGANIZER;CN="Chelsea Dillingham":MAILTO:c.dillingham@rhrcc.org
END:VEVENT
END:VCALENDAR