BEGIN:VCALENDAR
VERSION:2.0
PRODID:-//Rockcastle Regional Hospital - ECPv6.15.20//NONSGML v1.0//EN
CALSCALE:GREGORIAN
METHOD:PUBLISH
X-WR-CALNAME:Rockcastle Regional Hospital
X-ORIGINAL-URL:https://www.rockcastleregional.org
X-WR-CALDESC:Events for Rockcastle Regional Hospital
REFRESH-INTERVAL;VALUE=DURATION:PT1H
X-Robots-Tag:noindex
X-PUBLISHED-TTL:PT1H
BEGIN:VTIMEZONE
TZID:America/Kentucky/Louisville
BEGIN:DAYLIGHT
TZOFFSETFROM:-0500
TZOFFSETTO:-0400
TZNAME:EDT
DTSTART:20240310T070000
END:DAYLIGHT
BEGIN:STANDARD
TZOFFSETFROM:-0400
TZOFFSETTO:-0500
TZNAME:EST
DTSTART:20241103T060000
END:STANDARD
BEGIN:DAYLIGHT
TZOFFSETFROM:-0500
TZOFFSETTO:-0400
TZNAME:EDT
DTSTART:20250309T070000
END:DAYLIGHT
BEGIN:STANDARD
TZOFFSETFROM:-0400
TZOFFSETTO:-0500
TZNAME:EST
DTSTART:20251102T060000
END:STANDARD
BEGIN:DAYLIGHT
TZOFFSETFROM:-0500
TZOFFSETTO:-0400
TZNAME:EDT
DTSTART:20260308T070000
END:DAYLIGHT
BEGIN:STANDARD
TZOFFSETFROM:-0400
TZOFFSETTO:-0500
TZNAME:EST
DTSTART:20261101T060000
END:STANDARD
END:VTIMEZONE
BEGIN:VEVENT
DTSTART;TZID=America/Kentucky/Louisville:20250927T080000
DTEND;TZID=America/Kentucky/Louisville:20250927T100000
DTSTAMP:20260421T113404
CREATED:20250130T190631Z
LAST-MODIFIED:20250820T134419Z
UID:2035-1758960000-1758967200@www.rockcastleregional.org
SUMMARY:Rocket Blast Off 5K/2M
DESCRIPTION:Blast into fall with this high-energy race and support the children/youth of Rockcastle County. Proceeds benefit Rockcastle County Kiwanis Club. All Rockcastle County Students age 18 and under receive FREE registration! Click here for more information.
URL:https://www.rockcastleregional.org/event/rocket-blast-off-5k-2m/
LOCATION:Brodhead Elementary School\, 27 School Street\, Brodhead\, KY\, 40409
ATTACH;FMTTYPE=image/png:https://www.rockcastleregional.org/wp-content/uploads/2025/07/ROCKET-BLAST-OFF.png
ORGANIZER;CN="Chelsea Dillingham":MAILTO:c.dillingham@rhrcc.org
END:VEVENT
END:VCALENDAR